BEGIN:VCALENDAR
VERSION:2.0
PRODID:-//Musikzug Holzhausen II - ECPv6.15.14//NONSGML v1.0//EN
CALSCALE:GREGORIAN
METHOD:PUBLISH
X-WR-CALNAME:Musikzug Holzhausen II
X-ORIGINAL-URL:https://www.musikzug-holzhausen.de
X-WR-CALDESC:Veranstaltungen für Musikzug Holzhausen II
REFRESH-INTERVAL;VALUE=DURATION:PT1H
X-Robots-Tag:noindex
X-PUBLISHED-TTL:PT1H
BEGIN:VTIMEZONE
TZID:Europe/Berlin
BEGIN:DAYLIGHT
TZOFFSETFROM:+0100
TZOFFSETTO:+0200
TZNAME:CEST
DTSTART:20250330T010000
END:DAYLIGHT
BEGIN:STANDARD
TZOFFSETFROM:+0200
TZOFFSETTO:+0100
TZNAME:CET
DTSTART:20251026T010000
END:STANDARD
BEGIN:DAYLIGHT
TZOFFSETFROM:+0100
TZOFFSETTO:+0200
TZNAME:CEST
DTSTART:20260329T010000
END:DAYLIGHT
BEGIN:STANDARD
TZOFFSETFROM:+0200
TZOFFSETTO:+0100
TZNAME:CET
DTSTART:20261025T010000
END:STANDARD
BEGIN:DAYLIGHT
TZOFFSETFROM:+0100
TZOFFSETTO:+0200
TZNAME:CEST
DTSTART:20270328T010000
END:DAYLIGHT
BEGIN:STANDARD
TZOFFSETFROM:+0200
TZOFFSETTO:+0100
TZNAME:CET
DTSTART:20271031T010000
END:STANDARD
END:VTIMEZONE
BEGIN:VEVENT
DTSTART;TZID=Europe/Berlin:20260516T163000
DTEND;TZID=Europe/Berlin:20260516T220000
DTSTAMP:20260419T171154
CREATED:20240420T084149Z
LAST-MODIFIED:20260218T205913Z
UID:597-1778949000-1778968800@www.musikzug-holzhausen.de
SUMMARY:Gemeindefeuerwehrtag 2026 - Hartum
DESCRIPTION:
URL:https://www.musikzug-holzhausen.de/event/gemeindefeuerwehrtag-2025/
LOCATION:Hartum
END:VEVENT
BEGIN:VEVENT
DTSTART;VALUE=DATE:20260529
DTEND;VALUE=DATE:20260531
DTSTAMP:20260419T171154
CREATED:20230121T173549Z
LAST-MODIFIED:20260218T210028Z
UID:528-1780012800-1780185599@www.musikzug-holzhausen.de
SUMMARY:Schützenfest Oppendorf
DESCRIPTION:
URL:https://www.musikzug-holzhausen.de/event/schuetzenfest-oppendorf/
LOCATION:Oppendorf
END:VEVENT
BEGIN:VEVENT
DTSTART;VALUE=DATE:20260620
DTEND;VALUE=DATE:20260621
DTSTAMP:20260419T171154
CREATED:20260218T211128Z
LAST-MODIFIED:20260218T211128Z
UID:725-1781913600-1781999999@www.musikzug-holzhausen.de
SUMMARY:MACHMA LAUDAAA
DESCRIPTION:
URL:https://www.musikzug-holzhausen.de/event/machma-laudaaa/
LOCATION:Hille
END:VEVENT
BEGIN:VEVENT
DTSTART;TZID=Europe/Berlin:20260627T150000
DTEND;TZID=Europe/Berlin:20260627T180000
DTSTAMP:20260419T171154
CREATED:20230121T173720Z
LAST-MODIFIED:20260218T210201Z
UID:533-1782572400-1782583200@www.musikzug-holzhausen.de
SUMMARY:Gemeindealtentreffen 2026
DESCRIPTION:
URL:https://www.musikzug-holzhausen.de/event/gemeindealtentreffen-2023/
END:VEVENT
BEGIN:VEVENT
DTSTART;VALUE=DATE:20260807
DTEND;VALUE=DATE:20260808
DTSTAMP:20260419T171154
CREATED:20220621T100553Z
LAST-MODIFIED:20260218T210720Z
UID:505-1786060800-1786147199@www.musikzug-holzhausen.de
SUMMARY:Parademarsch Freischießen Minden
DESCRIPTION:
URL:https://www.musikzug-holzhausen.de/event/parademarsch-freischiessen-minden/
LOCATION:Minden Innenstadt
END:VEVENT
BEGIN:VEVENT
DTSTART;VALUE=DATE:20260808
DTEND;VALUE=DATE:20260809
DTSTAMP:20260419T171154
CREATED:20220621T095741Z
LAST-MODIFIED:20260218T210827Z
UID:501-1786147200-1786233599@www.musikzug-holzhausen.de
SUMMARY:Marsch Freischießen Minden
DESCRIPTION:
URL:https://www.musikzug-holzhausen.de/event/marsch-freischiessen-minden/
LOCATION:Minden
END:VEVENT
END:VCALENDAR